BEGIN:VCALENDAR
VERSION:2.0
PRODID:dcpsc.org
CALSCALE:GREGORIAN
METHOD:PUBLISH
BEGIN:VEVENT
DTSTART:20210503T235900
DTEND:
SUMMARY:DCPSC - Applications due - Commission Vacancy #12956 Contract Specialist
LOCATION:DC Pbulic Service Commission<br />
1325 G Street, NW Suite 800<br />
Washington, DC 20005
DESCRIPTION:Applications due - Commission Vacancy #12956 Contract Specialist is scheduled to happen on 5/3/2021.
PRIORITY:3
END:VEVENT
END:VCALENDAR
