BEGIN:VCALENDAR
VERSION:2.0
PRODID:dcpsc.org
CALSCALE:GREGORIAN
METHOD:PUBLISH
BEGIN:VEVENT
DTSTART:20210423T140000
DTEND:20210423T150000
SUMMARY:DCPSC - FC1148 - Energy Efficiency and Energy Conservation Task Force Meeting
LOCATION:
DESCRIPTION:FC1148 - Energy Efficiency and Energy Conservation Task Force Meeting is scheduled to happen on 4/23/2021.
PRIORITY:3
END:VEVENT
END:VCALENDAR
