BEGIN:VCALENDAR
VERSION:2.0
PRODID:dcpsc.org
CALSCALE:GREGORIAN
METHOD:PUBLISH
BEGIN:VEVENT
DTSTART:20210422T150000
DTEND:20210422T170000
SUMMARY:DCPSC - GD-2020-02-M - 11th Governance Board Meeting
LOCATION:
DESCRIPTION:GD-2020-02-M - 11th Governance Board Meeting is scheduled to happen on 4/22/2021.
PRIORITY:3
END:VEVENT
END:VCALENDAR
