BEGIN:VCALENDAR
VERSION:2.0
PRODID:dcpsc.org
CALSCALE:GREGORIAN
METHOD:PUBLISH
BEGIN:VEVENT
DTSTART:20210429T100000
DTEND:20210429T120000
SUMMARY:DCPSC - FC1130 - Customer Impact Working Group Meeting
LOCATION:Virtual Meeting
DESCRIPTION:FC1130 - Customer Impact Working Group Meeting is scheduled to happen on 4/29/2021.
PRIORITY:3
END:VEVENT
END:VCALENDAR
