BEGIN:VCALENDAR
VERSION:2.0
PRODID:dcpsc.org
CALSCALE:GREGORIAN
METHOD:PUBLISH
BEGIN:VEVENT
DTSTART:20210401T235900
DTEND:
SUMMARY:DCPSC - Assessment Survey Receipt Deadline
LOCATION:
DESCRIPTION:Assessment Survey Receipt Deadline is scheduled to happen on 4/1/2021.
PRIORITY:3
END:VEVENT
END:VCALENDAR
