BEGIN:VCALENDAR
VERSION:2.0
PRODID:dcpsc.org
CALSCALE:GREGORIAN
METHOD:PUBLISH
BEGIN:VEVENT
DTSTART:20210428T140000
DTEND:20210428T160000
SUMMARY:DCPSC -  Open Commission Meeting for April 28th 
LOCATION:
DESCRIPTION: Open Commission Meeting for April 28th  is scheduled to happen on 4/28/2021.
PRIORITY:3
END:VEVENT
END:VCALENDAR
