BEGIN:VCALENDAR
VERSION:2.0
PRODID:dcpsc.org
CALSCALE:GREGORIAN
METHOD:PUBLISH
BEGIN:VEVENT
DTSTART:20210422T100000
DTEND:20210422T120000
SUMMARY:DCPSC - FC1154 - Final Cost Unit Technical Conference
LOCATION:DC Public Service Commission<br />
1325 G Street, NW, Suite 800<br />
Washington, DC 20005
DESCRIPTION:FC1154 - Final Cost Unit Technical Conference is scheduled to happen on 4/22/2021.
PRIORITY:3
END:VEVENT
END:VCALENDAR
