BEGIN:VCALENDAR
VERSION:2.0
PRODID:dcpsc.org
CALSCALE:GREGORIAN
METHOD:PUBLISH
BEGIN:VEVENT
DTSTART:20210416T173000
DTEND:
SUMMARY:DCPSC - Applications Due -Summer 2021 Internship
LOCATION:DC Public Service Commission<br />
1325 G Street, NW Suite 800<br />
Washington, DC 20005
DESCRIPTION:Applications Due -Summer 2021 Internship is scheduled to happen on 4/16/2021.
PRIORITY:3
END:VEVENT
END:VCALENDAR
