BEGIN:VCALENDAR
VERSION:2.0
PRODID:dcpsc.org
CALSCALE:GREGORIAN
METHOD:PUBLISH
BEGIN:VEVENT
DTSTART:20210322T130000
DTEND:20210322T150000
SUMMARY:DCPSC - FC1149 - Technical Conference
LOCATION:
DESCRIPTION:FC1149 - Technical Conference is scheduled to happen on 3/22/2021.
PRIORITY:3
END:VEVENT
END:VCALENDAR
