BEGIN:VCALENDAR
VERSION:2.0
PRODID:dcpsc.org
CALSCALE:GREGORIAN
METHOD:PUBLISH
BEGIN:VEVENT
DTSTART:20211201T140000
DTEND:20211201T143000
SUMMARY:DCPSC - Open Commission Meeting for December 1st
LOCATION:D.C. Public Service Commission<br />
1325 G Street, NW Suite 800<br />
Washington, DC 20005
DESCRIPTION:Open Commission Meeting for December 1st is scheduled to happen on 12/1/2021.
PRIORITY:3
END:VEVENT
END:VCALENDAR
