BEGIN:VCALENDAR
VERSION:2.0
PRODID:dcpsc.org
CALSCALE:GREGORIAN
METHOD:PUBLISH
BEGIN:VEVENT
DTSTART:20211006T140000
DTEND:20211006T143000
SUMMARY:DCPSC - Open Commission Meeting for October 6th 
LOCATION:D.C. Public Service Commission<br />
1325 G Street, NW Suite 800<br />
Washington, DC 20005
DESCRIPTION:Open Commission Meeting for October 6th  is scheduled to happen on 10/6/2021.
PRIORITY:3
END:VEVENT
END:VCALENDAR
