BEGIN:VCALENDAR
VERSION:2.0
PRODID:dcpsc.org
CALSCALE:GREGORIAN
METHOD:PUBLISH
BEGIN:VEVENT
DTSTART:20210728T140000
DTEND:20210728T143000
SUMMARY:DCPSC - Open Commission Meeting for July 28th
LOCATION:D.C. Public Service Commission<br />
1325 G Street, NW Suite 800<br />
Washington, DC 20005
DESCRIPTION:Open Commission Meeting for July 28th is scheduled to happen on 7/28/2021.
PRIORITY:3
END:VEVENT
END:VCALENDAR
