BEGIN:VCALENDAR
VERSION:2.0
PRODID:dcpsc.org
CALSCALE:GREGORIAN
METHOD:PUBLISH
BEGIN:VEVENT
DTSTART:20210722T140000
DTEND:20210722T143000
SUMMARY:DCPSC - Open Commission Meeting for July 22nd
LOCATION:D.C. Public Service Commission<br />
1325 G Street, NW Suite 800<br />
Washington, DC 20005
DESCRIPTION:Open Commission Meeting for July 22nd is scheduled to happen on 7/22/2021.
PRIORITY:3
END:VEVENT
END:VCALENDAR
