BEGIN:VCALENDAR
VERSION:2.0
PRODID:dcpsc.org
CALSCALE:GREGORIAN
METHOD:PUBLISH
BEGIN:VEVENT
DTSTART:20210505T140000
DTEND:20210505T143000
SUMMARY:DCPSC - Open Commission Meeting for May 5th 
LOCATION:D.C. Public Service Commission<br />
1325 G Street, NW Suite 800<br />
Washington, DC 20005
DESCRIPTION:Open Commission Meeting for May 5th  is scheduled to happen on 5/5/2021.
PRIORITY:3
END:VEVENT
END:VCALENDAR
