BEGIN:VCALENDAR
VERSION:2.0
PRODID:dcpsc.org
CALSCALE:GREGORIAN
METHOD:PUBLISH
BEGIN:VEVENT
DTSTART:20210421T140000
DTEND:20210421T143000
SUMMARY:DCPSC - Open Commission Meeting and Pepco's State of the Company Presentation
LOCATION:
DESCRIPTION:Open Commission Meeting and Pepco's State of the Company Presentation is scheduled to happen on 4/21/2021.
PRIORITY:3
END:VEVENT
END:VCALENDAR
