BEGIN:VCALENDAR
VERSION:2.0
PRODID:dcpsc.org
CALSCALE:GREGORIAN
METHOD:PUBLISH
BEGIN:VEVENT
DTSTART:20210414T140000
DTEND:20210414T143000
SUMMARY:DCPSC - Cancelled - Open Commission Meeting for April 14th 
LOCATION:D.C. Public Service Commission<br />
1325 G Street, NW Suite 800<br />
Washington, DC 20005
DESCRIPTION:Cancelled - Open Commission Meeting for April 14th  is scheduled to happen on 4/14/2021.
PRIORITY:3
END:VEVENT
END:VCALENDAR
