BEGIN:VCALENDAR
VERSION:2.0
PRODID:dcpsc.org
CALSCALE:GREGORIAN
METHOD:PUBLISH
BEGIN:VEVENT
DTSTART:20210407T140000
DTEND:20210407T143000
SUMMARY:DCPSC - Open Commission Meeting for April 7th 
LOCATION:
DESCRIPTION:Open Commission Meeting for April 7th  is scheduled to happen on 4/7/2021.
PRIORITY:3
END:VEVENT
END:VCALENDAR
