BEGIN:VCALENDAR
VERSION:2.0
PRODID:dcpsc.org
CALSCALE:GREGORIAN
METHOD:PUBLISH
BEGIN:VEVENT
DTSTART:20210331T140000
DTEND:20210331T143000
SUMMARY:DCPSC - Open Commission Meeting for March 31st
LOCATION:
DESCRIPTION:Open Commission Meeting for March 31st is scheduled to happen on 3/31/2021.
PRIORITY:3
END:VEVENT
END:VCALENDAR
