BEGIN:VCALENDAR
VERSION:2.0
PRODID:dcpsc.org
CALSCALE:GREGORIAN
METHOD:PUBLISH
BEGIN:VEVENT
DTSTART:20210127T110000
DTEND:20210127T113000
SUMMARY:DCPSC - Open Commission Meeting
LOCATION:D.C. Public Service Commission<br />
1325 G Street, NW Suite 800<br />
Washington, DC 20005
DESCRIPTION:Open Commission Meeting is scheduled to happen on 1/27/2021.
PRIORITY:3
END:VEVENT
END:VCALENDAR
