BEGIN:VCALENDAR
VERSION:2.0
PRODID:dcpsc.org
CALSCALE:GREGORIAN
METHOD:PUBLISH
BEGIN:VEVENT
DTSTART:20190613T180000
DTEND:20190613T210000
SUMMARY:DCPSC - MEDSIS Town Hall Meeting on the Working Group Report
LOCATION:D.C. Public Service Commission<br />
Hearing Room<br />
1325 G Street, NW Suite 800<br />
Washington, DC 20005
DESCRIPTION:MEDSIS Town Hall Meeting on the Working Group Report is scheduled to happen on 6/13/2019.
PRIORITY:3
END:VEVENT
END:VCALENDAR
