BEGIN:VCALENDAR
VERSION:2.0
PRODID:dcpsc.org
CALSCALE:GREGORIAN
METHOD:PUBLISH
BEGIN:VEVENT
DTSTART:20190513T090000
DTEND:20190513T173000
SUMMARY:DCPSC - FC 1130 - Public Notice - Draft MEDSIS Working Group Report
LOCATION:DC Public Service Commission<br />
1325 G Street, NW Suite 800<br />
Washington, DC 20005
DESCRIPTION:FC 1130 - Public Notice - Draft MEDSIS Working Group Report is scheduled to happen on 5/13/2019.
PRIORITY:3
END:VEVENT
END:VCALENDAR
