BEGIN:VCALENDAR
VERSION:2.0
PRODID:dcpsc.org
CALSCALE:GREGORIAN
METHOD:PUBLISH
BEGIN:VEVENT
DTSTART:20191106T140000
DTEND:20191106T150000
SUMMARY:DCPSC - Open Commission Meeting
LOCATION:Commission Hearing Room<br />
1325 G Street, NW, Suite 800<br />
Washington, DC 20005
DESCRIPTION:Open Commission Meeting is scheduled to happen on 11/6/2019.
PRIORITY:3
END:VEVENT
END:VCALENDAR
