BEGIN:VCALENDAR
VERSION:2.0
PRODID:dcpsc.org
CALSCALE:GREGORIAN
METHOD:PUBLISH
BEGIN:VEVENT
DTSTART:20190911T120000
DTEND:20190911T130000
SUMMARY:DCPSC - Open-Closed Commission Meeting
LOCATION:Commission Hearing Room<br />
1325 G Street, NW, Suite 800<br />
Washington, DC 20005
DESCRIPTION:Open-Closed Commission Meeting is scheduled to happen on 9/11/2019.
PRIORITY:3
END:VEVENT
END:VCALENDAR
