BEGIN:VCALENDAR
VERSION:2.0
PRODID:dcpsc.org
CALSCALE:GREGORIAN
METHOD:PUBLISH
BEGIN:VEVENT
DTSTART:20160201T183000
DTEND:20160201T203000
SUMMARY:DCPSC - Standing Ovation for DC Public Schools
LOCATION:2700 F Street NW, Washington, DC 20566.<br />
Building: The John F. Kennedy Center for the Performing Arts
DESCRIPTION:Standing Ovation for DC Public Schools is scheduled to happen on 2/1/2016.
PRIORITY:3
END:VEVENT
END:VCALENDAR
