BEGIN:VCALENDAR
VERSION:2.0
PRODID:dcpsc.org
CALSCALE:GREGORIAN
METHOD:PUBLISH
BEGIN:VEVENT
DTSTART:20160128T000000
DTEND:
SUMMARY:DCPSC - Mayor Office of Community Outreach Core Team Walks
LOCATION:Ward 8
DESCRIPTION:Mayor Office of Community Outreach Core Team Walks is scheduled to happen on 1/28/2016.
PRIORITY:3
END:VEVENT
END:VCALENDAR
