BEGIN:VCALENDAR
VERSION:2.0
PRODID:dcpsc.org
CALSCALE:GREGORIAN
METHOD:PUBLISH
BEGIN:VEVENT
DTSTART:20160122T133000
DTEND:20160122T164000
SUMMARY:DCPSC - Mayor Office of Community Outreach Core Team Walks
LOCATION:Ward 7 - Starting Bell Eagle Recreation
DESCRIPTION:Mayor Office of Community Outreach Core Team Walks is scheduled to happen on 1/22/2016.
PRIORITY:3
END:VEVENT
END:VCALENDAR
