BEGIN:VCALENDAR
VERSION:2.0
PRODID:dcpsc.org
CALSCALE:GREGORIAN
METHOD:PUBLISH
BEGIN:VEVENT
DTSTART:20160129T133000
DTEND:
SUMMARY:DCPSC - Mayor Office of Community Outreach Core Team Walks
LOCATION:<span style="font-family: Arial, Helvetica, sans-serif; font-size: small; background-color: rgb(255, 255, 255);">Ward 4 Corridor</span>
DESCRIPTION:Mayor Office of Community Outreach Core Team Walks is scheduled to happen on 1/29/2016.
PRIORITY:3
END:VEVENT
END:VCALENDAR
