BEGIN:VCALENDAR
VERSION:2.0
PRODID:dcpsc.org
CALSCALE:GREGORIAN
METHOD:PUBLISH
BEGIN:VEVENT
DTSTART:20260428T100000
DTEND:
SUMMARY:DCPSC - FC1179-2026-G-1753 - Virtual Technical Conference
LOCATION:Microsoft Teams
DESCRIPTION:FC1179-2026-G-1753 - Virtual Technical Conference is scheduled to happen on 4/28/2026.
PRIORITY:3
END:VEVENT
END:VCALENDAR
