BEGIN:VCALENDAR
VERSION:2.0
PRODID:dcpsc.org
CALSCALE:GREGORIAN
METHOD:PUBLISH
BEGIN:VEVENT
DTSTART:20260415T150000
DTEND:20260415T173000
SUMMARY:DCPSC - Pepco Energy Assistance and Resource Fair
LOCATION:Marshall Heights Community Development Organization<br />
3939 Benning Rd, NE<br />
Washington, DC 20019
DESCRIPTION:Pepco Energy Assistance and Resource Fair is scheduled to happen on 4/15/2026.
PRIORITY:3
END:VEVENT
END:VCALENDAR
