BEGIN:VCALENDAR
VERSION:2.0
PRODID:dcpsc.org
CALSCALE:GREGORIAN
METHOD:PUBLISH
BEGIN:VEVENT
DTSTART:20260218T140000
DTEND:
SUMMARY:DCPSC - Open Commission Meeting for February 18, 2026
LOCATION:WebEx
DESCRIPTION:Open Commission Meeting for February 18, 2026 is scheduled to happen on 2/18/2026.
PRIORITY:3
END:VEVENT
END:VCALENDAR
