BEGIN:VCALENDAR
VERSION:2.0
PRODID:dcpsc.org
CALSCALE:GREGORIAN
METHOD:PUBLISH
BEGIN:VEVENT
DTSTART:20260121T110000
DTEND:
SUMMARY:DCPSC - Open Commission Meeting for January 21, 2026
LOCATION:WebEx
DESCRIPTION:Open Commission Meeting for January 21, 2026 is scheduled to happen on 1/21/2026.
PRIORITY:3
END:VEVENT
END:VCALENDAR
