BEGIN:VCALENDAR
VERSION:2.0
PRODID:dcpsc.org
CALSCALE:GREGORIAN
METHOD:PUBLISH
BEGIN:VEVENT
DTSTART:20251126T120000
DTEND:20251126T123000
SUMMARY:DCPSC - Open Commission Meeting for November 26, 2025 Via WebEx
LOCATION:<strong>WebEx</strong>
DESCRIPTION:Open Commission Meeting for November 26, 2025 Via WebEx is scheduled to happen on 11/26/2025.
PRIORITY:3
END:VEVENT
END:VCALENDAR
