BEGIN:VCALENDAR
VERSION:2.0
PRODID:dcpsc.org
CALSCALE:GREGORIAN
METHOD:PUBLISH
BEGIN:VEVENT
DTSTART:20251209T090000
DTEND:
SUMMARY:DCPSC - FC1179 - Evidentiary Hearing for WGL Pipeline Replacement Program
LOCATION:DC Public Service Commission Hearing Room<br />
1325 G Street, NW Suite 800<br />
Washington, DC 20005
DESCRIPTION:FC1179 - Evidentiary Hearing for WGL Pipeline Replacement Program is scheduled to happen on 12/9/2025.
PRIORITY:3
END:VEVENT
END:VCALENDAR
