BEGIN:VCALENDAR
VERSION:2.0
PRODID:dcpsc.org
CALSCALE:GREGORIAN
METHOD:PUBLISH
BEGIN:VEVENT
DTSTART:20251104T133000
DTEND:20251104T153000
SUMMARY:DCPSC - FC1176 - Lessons Learned Working Group
LOCATION:Microsoft Teams
DESCRIPTION:FC1176 - Lessons Learned Working Group is scheduled to happen on 11/4/2025.
PRIORITY:3
END:VEVENT
END:VCALENDAR
