BEGIN:VCALENDAR
VERSION:2.0
PRODID:dcpsc.org
CALSCALE:GREGORIAN
METHOD:PUBLISH
BEGIN:VEVENT
DTSTART:20251016T100000
DTEND:20251016T140000
SUMMARY:DCPSC - 2025 Citywide Recruitment and Resource Fair
LOCATION:The Fields At RFK Campus<br />
401 Oklahoma Ave NE<br />
Washington, DC 20002
DESCRIPTION:2025 Citywide Recruitment and Resource Fair is scheduled to happen on 10/16/2025.
PRIORITY:3
END:VEVENT
END:VCALENDAR
