BEGIN:VCALENDAR
VERSION:2.0
PRODID:dcpsc.org
CALSCALE:GREGORIAN
METHOD:PUBLISH
BEGIN:VEVENT
DTSTART:20251008T090000
DTEND:20251008T150000
SUMMARY:DCPSC - 2025 Employment First Summit
LOCATION:Martin Luther King, Jr. Memorial Library<br />
901 G St NW<br />
Washington, DC 20001<br />
&nbsp;
DESCRIPTION:2025 Employment First Summit is scheduled to happen on 10/8/2025.
PRIORITY:3
END:VEVENT
END:VCALENDAR
