BEGIN:VCALENDAR
VERSION:2.0
PRODID:dcpsc.org
CALSCALE:GREGORIAN
METHOD:PUBLISH
BEGIN:VEVENT
DTSTART:20250812T100000
DTEND:20250812T120000
SUMMARY:DCPSC - FC1050 Technical Conference
LOCATION:D.C. Public Service Commission<br />
Hearing Room and Microsoft Teams<br />
1325 G Street, NW Suite 800<br />
Washington, DC 20005
DESCRIPTION:FC1050 Technical Conference is scheduled to happen on 8/12/2025.
PRIORITY:3
END:VEVENT
END:VCALENDAR
