BEGIN:VCALENDAR
VERSION:2.0
PRODID:dcpsc.org
CALSCALE:GREGORIAN
METHOD:PUBLISH
BEGIN:VEVENT
DTSTART:20250605T100000
DTEND:20250606T150000
SUMMARY:DCPSC - Flip The Switch! Outreach Event
LOCATION:<p>Hattie Holmes Senior Wellness Center<br />
324 Kennedy St NW,<br />
Washington, DC 20011</p>

DESCRIPTION:Flip The Switch! Outreach Event is scheduled to happen on 6/5/2025.
PRIORITY:3
END:VEVENT
END:VCALENDAR
