BEGIN:VCALENDAR
VERSION:2.0
PRODID:dcpsc.org
CALSCALE:GREGORIAN
METHOD:PUBLISH
BEGIN:VEVENT
DTSTART:20250212T140000
DTEND:20250212T160000
SUMMARY:DCPSC - FC1176-2025-E-419 - Rate Design Working Group Meeting 
LOCATION:DC Public Service Commission Hearing Room<br />
1325 G Street, NW Suite 800<br />
Washington, DC 20005
DESCRIPTION:FC1176-2025-E-419 - Rate Design Working Group Meeting  is scheduled to happen on 2/12/2025.
PRIORITY:3
END:VEVENT
END:VCALENDAR
