BEGIN:VCALENDAR
VERSION:2.0
PRODID:dcpsc.org
CALSCALE:GREGORIAN
METHOD:PUBLISH
BEGIN:VEVENT
DTSTART:20250219T140000
DTEND:20250219T160000
SUMMARY:DCPSC - FC1156 and FC1176 - Bill Stabilization Adjustment Working Group Meeting
LOCATION:DC Public Service Commission Hearing Room<br />
1325 G Street, NW Suite 800<br />
Washington, DC 20005
DESCRIPTION:FC1156 and FC1176 - Bill Stabilization Adjustment Working Group Meeting is scheduled to happen on 2/19/2025.
PRIORITY:3
END:VEVENT
END:VCALENDAR
