BEGIN:VCALENDAR
VERSION:2.0
PRODID:dcpsc.org
CALSCALE:GREGORIAN
METHOD:PUBLISH
BEGIN:VEVENT
DTSTART:20250220T143000
DTEND:20250220T163000
SUMMARY:DCPSC - GD-2019-04-M - Technical Conference Meeting
LOCATION:DC Public Service Commission Hearing Room<br />
1325 G Street, NW Suite 800<br />
Washington, DC 20005
DESCRIPTION:GD-2019-04-M - Technical Conference Meeting is scheduled to happen on 2/20/2025.
PRIORITY:3
END:VEVENT
END:VCALENDAR
