BEGIN:VCALENDAR
VERSION:2.0
PRODID:dcpsc.org
CALSCALE:GREGORIAN
METHOD:PUBLISH
BEGIN:VEVENT
DTSTART:20251119T110000
DTEND:20251119T113000
SUMMARY:DCPSC - Open Commission Meeting for November 19, 2025
LOCATION:D.C. Public Service Commission<br />
1325 G Street, NW Suite 800<br />
Washington, DC 20005
DESCRIPTION:Open Commission Meeting for November 19, 2025 is scheduled to happen on 11/19/2025.
PRIORITY:3
END:VEVENT
END:VCALENDAR
