BEGIN:VCALENDAR
VERSION:2.0
PRODID:dcpsc.org
CALSCALE:GREGORIAN
METHOD:PUBLISH
BEGIN:VEVENT
DTSTART:20250521T110000
DTEND:20250521T113000
SUMMARY:DCPSC - Open Commission Meeting for May 21, 2025
LOCATION:WebEx
DESCRIPTION:Open Commission Meeting for May 21, 2025 is scheduled to happen on 5/21/2025.
PRIORITY:3
END:VEVENT
END:VCALENDAR
