BEGIN:VCALENDAR
VERSION:2.0
PRODID:dcpsc.org
CALSCALE:GREGORIAN
METHOD:PUBLISH
BEGIN:VEVENT
DTSTART:20250326T111500
DTEND:20250326T114500
SUMMARY:DCPSC - Open Commission Meeting for March 26, 2025 
LOCATION:WebEx
DESCRIPTION:Open Commission Meeting for March 26, 2025  is scheduled to happen on 3/26/2025.
PRIORITY:3
END:VEVENT
END:VCALENDAR
