BEGIN:VCALENDAR
VERSION:2.0
PRODID:dcpsc.org
CALSCALE:GREGORIAN
METHOD:PUBLISH
BEGIN:VEVENT
DTSTART:20241106T110000
DTEND:
SUMMARY:DCPSC - Open Commission Meeting for November 6, 2024
LOCATION:WebEx
DESCRIPTION:Open Commission Meeting for November 6, 2024 is scheduled to happen on 11/6/2024.
PRIORITY:3
END:VEVENT
END:VCALENDAR
