BEGIN:VCALENDAR
VERSION:2.0
PRODID:dcpsc.org
CALSCALE:GREGORIAN
METHOD:PUBLISH
BEGIN:VEVENT
DTSTART:20240501T094500
DTEND:
SUMMARY:DCPSC - Open Commission Meeting for May 1, 2024
LOCATION:WebEx
DESCRIPTION:Open Commission Meeting for May 1, 2024 is scheduled to happen on 5/1/2024.
PRIORITY:3
END:VEVENT
END:VCALENDAR
