BEGIN:VCALENDAR
VERSION:2.0
PRODID:dcpsc.org
CALSCALE:GREGORIAN
METHOD:PUBLISH
BEGIN:VEVENT
DTSTART:20230913T101500
DTEND:
SUMMARY:DCPSC - FC1169 - Procedural Hearing
LOCATION:D.C. Public Service Commission<br />
1325 G Street, NW Suite 800<br />
Washington, DC 20005
DESCRIPTION:FC1169 - Procedural Hearing is scheduled to happen on 9/13/2023.
PRIORITY:3
END:VEVENT
END:VCALENDAR
