BEGIN:VCALENDAR
VERSION:2.0
PRODID:dcpsc.org
CALSCALE:GREGORIAN
METHOD:PUBLISH
BEGIN:VEVENT
DTSTART:20231026T110000
DTEND:
SUMMARY:DCPSC - Open Commission Meeting for October 26, 2023
LOCATION:D.C. Public Service Commission<br />
1325 G Street, NW Suite 800<br />
Washington, DC 20005
DESCRIPTION:Open Commission Meeting for October 26, 2023 is scheduled to happen on 10/26/2023.
PRIORITY:3
END:VEVENT
END:VCALENDAR
