BEGIN:VCALENDAR
VERSION:2.0
PRODID:dcpsc.org
CALSCALE:GREGORIAN
METHOD:PUBLISH
BEGIN:VEVENT
DTSTART:20230614T140000
DTEND:
SUMMARY:DCPSC - Open Commission Meeting for June 14, 2023
LOCATION:WebEx
DESCRIPTION:Open Commission Meeting for June 14, 2023 is scheduled to happen on 6/14/2023.
PRIORITY:3
END:VEVENT
END:VCALENDAR
