BEGIN:VCALENDAR
VERSION:2.0
PRODID:dcpsc.org
CALSCALE:GREGORIAN
METHOD:PUBLISH
BEGIN:VEVENT
DTSTART:20220727T150000
DTEND:
SUMMARY:DCPSC - Inaugural DCPSC Supplier Diversity Hearing
LOCATION:YouTube Livestream
DESCRIPTION:Inaugural DCPSC Supplier Diversity Hearing is scheduled to happen on 7/27/2022.
PRIORITY:3
END:VEVENT
END:VCALENDAR
